BEGIN:VCALENDAR
VERSION:2.0
PRODID:-//wp-events-plugin.com//6.6.3//EN
TZID:Europe/Berlin
X-WR-TIMEZONE:Europe/Berlin
BEGIN:VEVENT
UID:44@xn--dorf-gritz-jcb.de
DTSTART;TZID=Europe/Berlin:20260502T100000
DTEND;TZID=Europe/Berlin:20260502T160000
DTSTAMP:20260405T205556Z
URL:https://xn--dorf-gritz-jcb.de/events/die-naechste-goeritzer-flohmeile-
 berietet-sich-vor/
SUMMARY:der nächste "Göritzer Flohmarkt" bereitet sich vor
DESCRIPTION:[caption id="attachment_1546" align="alignnone" width="1290"] S
 creenshot[/caption]
ATTACH;FMTTYPE=image/jpeg:https://xn--dorf-gritz-jcb.de/wp-content/uploads
 /2026/03/IMG_6148.jpeg
CATEGORIES:Flohmarkt
LOCATION:Feuerwehrplatz Göritz\, Chausseestraße\, Göritz\, Brandenburg\,
  17291\, Deutschland
X-APPLE-STRUCTURED-LOCATION;VALUE=URI;X-ADDRESS=Chausseestraße\, Göritz\,
  Brandenburg\, 17291\, Deutschland;X-APPLE-RADIUS=100;X-TITLE=Feuerwehrpla
 tz Göritz:geo:0,0
END:VEVENT
BEGIN:VTIMEZONE
TZID:Europe/Berlin
X-LIC-LOCATION:Europe/Berlin
BEGIN:DAYLIGHT
DTSTART:20260329T030000
TZOFFSETFROM:+0100
TZOFFSETTO:+0200
TZNAME:CEST
END:DAYLIGHT
END:VTIMEZONE
END:VCALENDAR